BEGIN:VCALENDAR
VERSION:2.0
PRODID:-//le marché solidaire - ECPv6.15.20//NONSGML v1.0//EN
CALSCALE:GREGORIAN
METHOD:PUBLISH
X-ORIGINAL-URL:https://lemarchesolidaire.fr
X-WR-CALDESC:Évènements pour le marché solidaire
REFRESH-INTERVAL;VALUE=DURATION:PT1H
X-Robots-Tag:noindex
X-PUBLISHED-TTL:PT1H
BEGIN:VTIMEZONE
TZID:UTC
BEGIN:STANDARD
TZOFFSETFROM:+0000
TZOFFSETTO:+0000
TZNAME:UTC
DTSTART:20240101T000000
END:STANDARD
END:VTIMEZONE
BEGIN:VEVENT
DTSTART;TZID=UTC:20250411T143000
DTEND;TZID=UTC:20250411T163000
DTSTAMP:20260420T033819
CREATED:20250213T080326Z
LAST-MODIFIED:20250213T080326Z
UID:5202-1744381800-1744389000@lemarchesolidaire.fr
SUMMARY:Atelier soin des cheveux
DESCRIPTION:Fabrication de shampoing sec\nFabrication de shampoing solide
URL:https://lemarchesolidaire.fr/event/atelier-soin-des-cheveux-4/
LOCATION:Marché solidaire\, 12 rue de l'Eure\, Paris\, 75014\, France
END:VEVENT
END:VCALENDAR