BEGIN:VCALENDAR
VERSION:2.0
PRODID:-//le marché solidaire - ECPv6.15.20//NONSGML v1.0//EN
CALSCALE:GREGORIAN
METHOD:PUBLISH
X-WR-CALNAME:le marché solidaire
X-ORIGINAL-URL:https://lemarchesolidaire.fr
X-WR-CALDESC:Évènements pour le marché solidaire
REFRESH-INTERVAL;VALUE=DURATION:PT1H
X-Robots-Tag:noindex
X-PUBLISHED-TTL:PT1H
BEGIN:VTIMEZONE
TZID:UTC
BEGIN:STANDARD
TZOFFSETFROM:+0000
TZOFFSETTO:+0000
TZNAME:UTC
DTSTART:20240101T000000
END:STANDARD
END:VTIMEZONE
BEGIN:VEVENT
DTSTART;TZID=UTC:20250516T120000
DTEND;TZID=UTC:20250516T140000
DTSTAMP:20260420T013829
CREATED:20250520T072319Z
LAST-MODIFIED:20250520T072340Z
UID:5293-1747396800-1747404000@lemarchesolidaire.fr
SUMMARY:Atelier cuisine du monde
DESCRIPTION:Repas Guyanais
URL:https://lemarchesolidaire.fr/event/atelier-cuisine-du-monde-12/
LOCATION:Marché solidaire\, 12 rue de l'Eure\, Paris\, 75014\, France
END:VEVENT
BEGIN:VEVENT
DTSTART;TZID=UTC:20250516T143000
DTEND;TZID=UTC:20250516T163000
DTSTAMP:20260420T013829
CREATED:20250520T072434Z
LAST-MODIFIED:20250520T072434Z
UID:5295-1747405800-1747413000@lemarchesolidaire.fr
SUMMARY:Atelier soin du visage
DESCRIPTION:
URL:https://lemarchesolidaire.fr/event/atelier-soin-du-visage-2/
LOCATION:Marché solidaire\, 12 rue de l'Eure\, Paris\, 75014\, France
END:VEVENT
END:VCALENDAR