BEGIN:VCALENDAR
VERSION:2.0
PRODID:-//le marché solidaire - ECPv6.15.20//NONSGML v1.0//EN
CALSCALE:GREGORIAN
METHOD:PUBLISH
X-WR-CALNAME:le marché solidaire
X-ORIGINAL-URL:https://lemarchesolidaire.fr
X-WR-CALDESC:Évènements pour le marché solidaire
REFRESH-INTERVAL;VALUE=DURATION:PT1H
X-Robots-Tag:noindex
X-PUBLISHED-TTL:PT1H
BEGIN:VTIMEZONE
TZID:UTC
BEGIN:STANDARD
TZOFFSETFROM:+0000
TZOFFSETTO:+0000
TZNAME:UTC
DTSTART:20240101T000000
END:STANDARD
END:VTIMEZONE
BEGIN:VEVENT
DTSTART;TZID=UTC:20250613T170000
DTEND;TZID=UTC:20250614T190000
DTSTAMP:20260419T235206
CREATED:20250524T073501Z
LAST-MODIFIED:20250524T073501Z
UID:5306-1749834000-1749927600@lemarchesolidaire.fr
SUMMARY:Collecte de printemps au nom de la Banque Alimentaire
DESCRIPTION:
URL:https://lemarchesolidaire.fr/event/collecte-de-printemps-au-nom-de-la-banque-alimentaire/
LOCATION:Monoprix Losserand\, 117/119 Rue Raymond Losserand\, Paris 14\, France
END:VEVENT
END:VCALENDAR