BEGIN:VCALENDAR
VERSION:2.0
PRODID:-//le marché solidaire - ECPv6.15.20//NONSGML v1.0//EN
CALSCALE:GREGORIAN
METHOD:PUBLISH
X-WR-CALNAME:le marché solidaire
X-ORIGINAL-URL:https://lemarchesolidaire.fr
X-WR-CALDESC:Évènements pour le marché solidaire
REFRESH-INTERVAL;VALUE=DURATION:PT1H
X-Robots-Tag:noindex
X-PUBLISHED-TTL:PT1H
BEGIN:VTIMEZONE
TZID:UTC
BEGIN:STANDARD
TZOFFSETFROM:+0000
TZOFFSETTO:+0000
TZNAME:UTC
DTSTART:20240101T000000
END:STANDARD
END:VTIMEZONE
BEGIN:VEVENT
DTSTART;TZID=UTC:20251128T170000
DTEND;TZID=UTC:20251128T190000
DTSTAMP:20260419T155902
CREATED:20250925T101213Z
LAST-MODIFIED:20250925T101213Z
UID:5462-1764349200-1764356400@lemarchesolidaire.fr
SUMMARY:Collecte nationale pour la banque alimentaire
DESCRIPTION:
URL:https://lemarchesolidaire.fr/event/collecte-nationale-pour-la-banque-alimentaire-3/
LOCATION:Supermarché Auchan\, 191 rue d'Alésia\, PARIS\, 75014\, France
END:VEVENT
END:VCALENDAR