BEGIN:VCALENDAR
VERSION:2.0
PRODID:-//le marché solidaire - ECPv6.15.20//NONSGML v1.0//EN
CALSCALE:GREGORIAN
METHOD:PUBLISH
X-ORIGINAL-URL:https://lemarchesolidaire.fr
X-WR-CALDESC:Évènements pour le marché solidaire
REFRESH-INTERVAL;VALUE=DURATION:PT1H
X-Robots-Tag:noindex
X-PUBLISHED-TTL:PT1H
BEGIN:VTIMEZONE
TZID:UTC
BEGIN:STANDARD
TZOFFSETFROM:+0000
TZOFFSETTO:+0000
TZNAME:UTC
DTSTART:20250101T000000
END:STANDARD
END:VTIMEZONE
BEGIN:VEVENT
DTSTART;TZID=UTC:20260115T180000
DTEND;TZID=UTC:20260115T210000
DTSTAMP:20260419T130031
CREATED:20260106T111505Z
LAST-MODIFIED:20260106T111612Z
UID:5644-1768500000-1768510800@lemarchesolidaire.fr
SUMMARY:Repas des bénévoles
DESCRIPTION:
URL:https://lemarchesolidaire.fr/event/repas-des-benevoles/
END:VEVENT
END:VCALENDAR